BEGIN:VCALENDAR
VERSION:2.0
PRODID:-//Skolkalender.se – Hagaskolan i Umeå - ECPv5.8.1//NONSGML v1.0//EN
CALSCALE:GREGORIAN
METHOD:PUBLISH
X-WR-CALNAME:Skolkalender.se – Hagaskolan i Umeå
X-ORIGINAL-URL:https://skolkalender.se/hagaskolan-umea
X-WR-CALDESC:Händelser för Skolkalender.se – Hagaskolan i Umeå
BEGIN:VTIMEZONE
TZID:Europe/Stockholm
BEGIN:DAYLIGHT
TZOFFSETFROM:+0100
TZOFFSETTO:+0200
TZNAME:CEST
DTSTART:20240331T010000
END:DAYLIGHT
BEGIN:STANDARD
TZOFFSETFROM:+0200
TZOFFSETTO:+0100
TZNAME:CET
DTSTART:20241027T010000
END:STANDARD
END:VTIMEZONE
BEGIN:VEVENT
DTSTART;TZID=Europe/Stockholm:20241203T080000
DTEND;TZID=Europe/Stockholm:20241203T170000
DTSTAMP:20260425T025048
CREATED:20241126T071642Z
LAST-MODIFIED:20241126T071642Z
UID:7899-1733212800-1733245200@skolkalender.se
SUMMARY:MA-prov
DESCRIPTION:Prov kapitel 1-2\n1. Bråk och decimaltal\n2. De fyra räknesätten med decimaltal
URL:https://skolkalender.se/hagaskolan-umea/handelse/ma-prov-9/
CATEGORIES:5b
ATTACH;FMTTYPE=:
END:VEVENT
END:VCALENDAR