BEGIN:VCALENDAR
VERSION:2.0
PRODID:-//Skolkalender.se – Hagaskolan i Umeå - ECPv5.8.1//NONSGML v1.0//EN
CALSCALE:GREGORIAN
METHOD:PUBLISH
X-WR-CALNAME:Skolkalender.se – Hagaskolan i Umeå
X-ORIGINAL-URL:https://skolkalender.se/hagaskolan-umea
X-WR-CALDESC:Händelser för Skolkalender.se – Hagaskolan i Umeå
BEGIN:VTIMEZONE
TZID:Europe/Stockholm
BEGIN:DAYLIGHT
TZOFFSETFROM:+0100
TZOFFSETTO:+0200
TZNAME:CEST
DTSTART:20240331T010000
END:DAYLIGHT
BEGIN:STANDARD
TZOFFSETFROM:+0200
TZOFFSETTO:+0100
TZNAME:CET
DTSTART:20241027T010000
END:STANDARD
END:VTIMEZONE
BEGIN:VEVENT
DTSTART;TZID=Europe/Stockholm:20240806T103000
DTEND;TZID=Europe/Stockholm:20240806T113000
DTSTAMP:20260425T055805
CREATED:20220824T085754Z
LAST-MODIFIED:20220824T085754Z
UID:3888-1722940200-1722943800@skolkalender.se
SUMMARY:Engelskaläxa
DESCRIPTION:Engelskaläxa från tisdag till tisdag. Mer information om läxan hittar du i Engelska-classroom.
URL:https://skolkalender.se/hagaskolan-umea/handelse/engelskalaxa-2/2024-08-06/
ATTACH;FMTTYPE=:
END:VEVENT
BEGIN:VEVENT
DTSTART;TZID=Europe/Stockholm:20240813T103000
DTEND;TZID=Europe/Stockholm:20240813T113000
DTSTAMP:20260425T055805
CREATED:20220824T085754Z
LAST-MODIFIED:20220824T085754Z
UID:3889-1723545000-1723548600@skolkalender.se
SUMMARY:Engelskaläxa
DESCRIPTION:Engelskaläxa från tisdag till tisdag. Mer information om läxan hittar du i Engelska-classroom.
URL:https://skolkalender.se/hagaskolan-umea/handelse/engelskalaxa-2/2024-08-13/
ATTACH;FMTTYPE=:
END:VEVENT
BEGIN:VEVENT
DTSTART;VALUE=DATE:20240819
DTEND;VALUE=DATE:20240820
DTSTAMP:20260425T055805
CREATED:20240819T170220Z
LAST-MODIFIED:20240819T170310Z
UID:6840-1724025600-1724111999@skolkalender.se
SUMMARY:Uppstartsdag 7b
DESCRIPTION:8.20 Samling i aulan\, därefter i hemrum 7b\nAktiviteter tillsammans 7b och mentorerna Ylva och Anna-Karin\nUtdelning av skåp och datorer\, osv\nSlut ca 14.00
URL:https://skolkalender.se/hagaskolan-umea/handelse/uppstartsdag-7b/
CATEGORIES:7b
ATTACH;FMTTYPE=:
END:VEVENT
BEGIN:VEVENT
DTSTART;TZID=Europe/Stockholm:20240820T103000
DTEND;TZID=Europe/Stockholm:20240820T113000
DTSTAMP:20260425T055805
CREATED:20220824T085754Z
LAST-MODIFIED:20220824T085754Z
UID:3890-1724149800-1724153400@skolkalender.se
SUMMARY:Engelskaläxa
DESCRIPTION:Engelskaläxa från tisdag till tisdag. Mer information om läxan hittar du i Engelska-classroom.
URL:https://skolkalender.se/hagaskolan-umea/handelse/engelskalaxa-2/2024-08-20/
ATTACH;FMTTYPE=:
END:VEVENT
BEGIN:VEVENT
DTSTART;TZID=Europe/Stockholm:20240822T120000
DTEND;TZID=Europe/Stockholm:20240822T130000
DTSTAMP:20260425T055805
CREATED:20240818T171305Z
LAST-MODIFIED:20250107T153153Z
UID:6761-1724328000-1724331600@skolkalender.se
SUMMARY:Läxa i tyska
DESCRIPTION:Hier findest du die Hausaufgabe. Siehe den Link hier unten!
URL:https://skolkalender.se/hagaskolan-umea/handelse/laxa-i-tyska-5/2024-08-22/
CATEGORIES:8a,8b,8c
ATTACH;FMTTYPE=:
END:VEVENT
BEGIN:VEVENT
DTSTART;TZID=Europe/Stockholm:20240823T103000
DTEND;TZID=Europe/Stockholm:20240823T113000
DTSTAMP:20260425T055805
CREATED:20240818T170909Z
LAST-MODIFIED:20250107T153302Z
UID:6749-1724409000-1724412600@skolkalender.se
SUMMARY:Läxa i tyska
DESCRIPTION:Hier findest du die Hausaufgabe. Siehe den Link hier unten!
URL:https://skolkalender.se/hagaskolan-umea/handelse/laxa-i-tyska-4/2024-08-23/
CATEGORIES:7a,7b,7c
ATTACH;FMTTYPE=:
END:VEVENT
BEGIN:VEVENT
DTSTART;TZID=Europe/Stockholm:20240823T122000
DTEND;TZID=Europe/Stockholm:20240823T130000
DTSTAMP:20260425T055805
CREATED:20240818T171630Z
LAST-MODIFIED:20250107T153341Z
UID:6773-1724415600-1724418000@skolkalender.se
SUMMARY:Läxa i tyska
DESCRIPTION:Hier findest du die Hausaufgabe. Siehe den Link hier unten\,
URL:https://skolkalender.se/hagaskolan-umea/handelse/laxa-i-tyska-6/2024-08-23/
CATEGORIES:9a,9b,9c
ATTACH;FMTTYPE=:
END:VEVENT
BEGIN:VEVENT
DTSTART;TZID=Europe/Stockholm:20240823T122000
DTEND;TZID=Europe/Stockholm:20240823T131500
DTSTAMP:20260425T055805
CREATED:20240819T165413Z
LAST-MODIFIED:20250110T063738Z
UID:6804-1724415600-1724418900@skolkalender.se
SUMMARY:Devoirs français classe 9
DESCRIPTION:Le lien des devoirs de francais
URL:https://skolkalender.se/hagaskolan-umea/handelse/devoirs-francais/2024-08-23/
CATEGORIES:9a,9b,9c
ATTACH;FMTTYPE=:
END:VEVENT
BEGIN:VEVENT
DTSTART;TZID=Europe/Stockholm:20240827T103000
DTEND;TZID=Europe/Stockholm:20240827T113000
DTSTAMP:20260425T055805
CREATED:20220824T085754Z
LAST-MODIFIED:20220824T085754Z
UID:3694-1724754600-1724758200@skolkalender.se
SUMMARY:Engelskaläxa
DESCRIPTION:Engelskaläxa från tisdag till tisdag. Mer information om läxan hittar du i Engelska-classroom.
URL:https://skolkalender.se/hagaskolan-umea/handelse/engelskalaxa-2/2024-08-27/
ATTACH;FMTTYPE=:
END:VEVENT
BEGIN:VEVENT
DTSTART;TZID=Europe/Stockholm:20240829T093000
DTEND;TZID=Europe/Stockholm:20240829T103000
DTSTAMP:20260425T055805
CREATED:20240818T172031Z
LAST-MODIFIED:20250107T152520Z
UID:6785-1724923800-1724927400@skolkalender.se
SUMMARY:Eng läxa
DESCRIPTION:Follow the link below to find information about your homework!
URL:https://skolkalender.se/hagaskolan-umea/handelse/eng-laxa-2/2024-08-29/
CATEGORIES:9a
ATTACH;FMTTYPE=:
END:VEVENT
BEGIN:VEVENT
DTSTART;TZID=Europe/Stockholm:20240829T120000
DTEND;TZID=Europe/Stockholm:20240829T130000
DTSTAMP:20260425T055805
CREATED:20240818T171305Z
LAST-MODIFIED:20240818T171305Z
UID:7980-1724932800-1724936400@skolkalender.se
SUMMARY:Läxa i tyska
DESCRIPTION:Hier findest du die Hausaufgabe. Siehe den Link hier unten!
URL:https://skolkalender.se/hagaskolan-umea/handelse/laxa-i-tyska-5/2024-08-29/
CATEGORIES:8a,8b,8c
ATTACH;FMTTYPE=:
END:VEVENT
BEGIN:VEVENT
DTSTART;TZID=Europe/Stockholm:20240830T082000
DTEND;TZID=Europe/Stockholm:20240830T095000
DTSTAMP:20260425T055805
CREATED:20240819T170920Z
LAST-MODIFIED:20250110T063546Z
UID:6843-1725006000-1725011400@skolkalender.se
SUMMARY:Läxa i franska åk 6
DESCRIPTION:Här kommer länk till läxorna i franska
URL:https://skolkalender.se/hagaskolan-umea/handelse/laxa-i-franska/2024-08-30/
CATEGORIES:6a,6b,6c
ATTACH;FMTTYPE=:
END:VEVENT
BEGIN:VEVENT
DTSTART;TZID=Europe/Stockholm:20240830T103000
DTEND;TZID=Europe/Stockholm:20240830T112500
DTSTAMP:20260425T055805
CREATED:20240826T124520Z
LAST-MODIFIED:20240826T124520Z
UID:6911-1725013800-1725017100@skolkalender.se
SUMMARY:Spanskaläxa
DESCRIPTION:Läxan hittar du på Classroom under rubriken Deberes- läxor
URL:https://skolkalender.se/hagaskolan-umea/handelse/spanskalaxa-11/2024-08-30/
CATEGORIES:7a
ATTACH;FMTTYPE=:
END:VEVENT
BEGIN:VEVENT
DTSTART;TZID=Europe/Stockholm:20240830T103000
DTEND;TZID=Europe/Stockholm:20240830T113000
DTSTAMP:20260425T055805
CREATED:20240815T121050Z
LAST-MODIFIED:20240815T121050Z
UID:6711-1725013800-1725017400@skolkalender.se
SUMMARY:Engelskaläxa
DESCRIPTION:Läxan finns i glosboken: https://google.glosboken.se/invitations/6tsto92incqvbt15 \nLänk till läxan finns även i Google classroom.
URL:https://skolkalender.se/hagaskolan-umea/handelse/engelskalaxa-7/2024-08-30/
CATEGORIES:9c
ATTACH;FMTTYPE=:
END:VEVENT
BEGIN:VEVENT
DTSTART;TZID=Europe/Stockholm:20240830T103000
DTEND;TZID=Europe/Stockholm:20240830T113000
DTSTAMP:20260425T055805
CREATED:20240818T170909Z
LAST-MODIFIED:20240818T170909Z
UID:7990-1725013800-1725017400@skolkalender.se
SUMMARY:Läxa i tyska
DESCRIPTION:Hier findest du die Hausaufgabe. Siehe den Link hier unten!
URL:https://skolkalender.se/hagaskolan-umea/handelse/laxa-i-tyska-4/2024-08-30/
CATEGORIES:7a,7b,7c
ATTACH;FMTTYPE=:
END:VEVENT
BEGIN:VEVENT
DTSTART;TZID=Europe/Stockholm:20240830T121000
DTEND;TZID=Europe/Stockholm:20240830T130500
DTSTAMP:20260425T055805
CREATED:20240829T114958Z
LAST-MODIFIED:20240829T115441Z
UID:6985-1725019800-1725023100@skolkalender.se
SUMMARY:Läsläxa – projekt bokhyllan
DESCRIPTION:Läsläxa – projekt bokhyllan
URL:https://skolkalender.se/hagaskolan-umea/handelse/laslaxa-projekt-bokhyllan/2024-08-30/
CATEGORIES:8b
ATTACH;FMTTYPE=:
END:VEVENT
BEGIN:VEVENT
DTSTART;TZID=Europe/Stockholm:20240830T122000
DTEND;TZID=Europe/Stockholm:20240830T130000
DTSTAMP:20260425T055805
CREATED:20240818T171630Z
LAST-MODIFIED:20240818T171630Z
UID:8000-1725020400-1725022800@skolkalender.se
SUMMARY:Läxa i tyska
DESCRIPTION:Hier findest du die Hausaufgabe. Siehe den Link hier unten\,
URL:https://skolkalender.se/hagaskolan-umea/handelse/laxa-i-tyska-6/2024-08-30/
CATEGORIES:9a,9b,9c
ATTACH;FMTTYPE=:
END:VEVENT
BEGIN:VEVENT
DTSTART;TZID=Europe/Stockholm:20240830T122000
DTEND;TZID=Europe/Stockholm:20240830T131500
DTSTAMP:20260425T055805
CREATED:20240819T165413Z
LAST-MODIFIED:20240819T165413Z
UID:7715-1725020400-1725023700@skolkalender.se
SUMMARY:Devoirs francais
DESCRIPTION:Le lien des devoirs de francais
URL:https://skolkalender.se/hagaskolan-umea/handelse/devoirs-francais/2024-08-30/
CATEGORIES:9a,9b,9c
ATTACH;FMTTYPE=:
END:VEVENT
BEGIN:VEVENT
DTSTART;TZID=Europe/Stockholm:20240831T080000
DTEND;TZID=Europe/Stockholm:20240831T170000
DTSTAMP:20260425T055805
CREATED:20240624T073345Z
LAST-MODIFIED:20240624T073345Z
UID:6662-1725091200-1725123600@skolkalender.se
SUMMARY:Test
DESCRIPTION:Test
URL:https://skolkalender.se/hagaskolan-umea/handelse/test-32/
CATEGORIES:4a,4b,4c,5a,5b,5c,6a,6b,6c,7a,7b,7c,8a,8b,8c,9a,9b,9c
ATTACH;FMTTYPE=:
END:VEVENT
END:VCALENDAR